BEGIN:VCALENDAR
PRODID:-//chuck-10076//EN
VERSION:2.0
BEGIN:VEVENT
SUMMARY:Sutton Auctioneers and Land Brokers LLC.: De Stasi – +/-162.39 Acres of Choice Lisbon Twp., Davison Co., SD Land
PRIORITY:0
CLASS:PUBLIC
DTSTART:20260430T150000Z
DTEND:20260501T045900Z
DESCRIPTION:
X-ALT-DESC;FMTTYPE=text/html:
LOCATION:DAVISON COUNTY, South Dakota, United States
END:VEVENT
END:VCALENDAR